Workbook

Sheet sabado
A1: CÉDULA | B1: NOMBRE COMPLETO DEL PROFESOR/INSTRUCTOR | C1: ESCALAFON | D1: DEDICACION | E1: FACULTAD | F1: CIUDAD
A2: 28060666 | B2: EVA JOHANA HINESTROZA FLOREZ | C2: Auxiliar | D2: Catedra | E2: CIENCIAS EMPRESARIALES | F2: MEDELLIN
A3: 42689916 | B3: LUISA FERNANDA VILLEGAS MONTOYA | C3: Auxiliar | D3: Catedra | E3: CIENCIAS EMPRESARIALES | F3: MEDELLIN
A4: 79521381 | B4: JUAN DAVID GIRALDO TRUJILLO | C4: Auxiliar | D4: Catedra | E4: CIENCIAS EMPRESARIALES | F4: MEDELLIN
A5: 94542036 | B5: ALEXANDER ARANGO POLANIA | C5: Auxiliar | D5: Catedra | E5: CIENCIAS EMPRESARIALES | F5: MEDELLIN
A6: 1026144241 | B6: FRANCISCO OSCAR VELEZ MORALES | C6: Auxiliar | D6: MT | E6: CIENCIAS EMPRESARIALES | F6: MEDELLIN
A7: 1032447866 | B7: DAVID LEONARDO CARO PEDREROS | C7: Asistente | D7: Catedra | E7: CIENCIAS EMPRESARIALES | F7: MEDELLIN
A8: 1035223897 | B8: JHON EDISON ZULETA BUSTAMANTE | C8: Asistente | D8: Catedra | E8: CIENCIAS EMPRESARIALES | F8: MEDELLIN
A9: 1061787372 | B9: JAVIER DANIEL MUÑOZ PIEDRAHITA | C9: Asociado | D9: MT | E9: CIENCIAS EMPRESARIALES | F9: MEDELLIN
A10: 1128267730 | B10: MARIA VICTORIA BOTERO VASQUEZ | C10: Asistente | D10: TC | E10: CIENCIAS EMPRESARIALES | F10: MEDELLIN
A11: 8161364 | B11: ANDRES FELIPE GUTIERREZ HENAO | C11: Auxiliar | D11: MT | E11: CIENCIAS EMPRESARIALES | F11: MEDELLIN
A12: 1017155113 | B12: JUAN DAVID LLANO GARCIA | C12: Auxiliar | D12: Catedra | E12: CIENCIAS EMPRESARIALES | F12: MEDELLIN
A13: 1128421746 | B13: RAÚL ESTEBAN PEDROZA CORREA | C13: Auxiliar | D13: TC | E13: CIENCIAS EMPRESARIALES | F13: MEDELLIN
... A112: 1094917266 | B112: JOAN SEBASTIÁN ARBELÁEZ CARO | C112: Asociado | D112: MT | E112: PSICOLOGIA | F112: ARMENIA
A113: 71775804 | B113: JUAN ALEXANDER ESCOBAR RINCON | C113: Medico | E113: PROYECTO IPS CENTRO INTEGRADO | F113: MEDELLIN
A114: 1017148524 | B114: INGRID TATIANA CASTAÑO HERNANDEZ | C114: Medico | E114: PROYECTO IPS CENTRO INTEGRADO | F114: MEDELLIN
A115: 71648688 | B115: LUIS FERNANDO MONTOYA LOAIZA | C115: AUX ADMINISTRATIVO | E115: AUXILIAR ADMIN 2 FAC DE INGENI | F115: MEDELLIN
A116: 32295790 | B116: Mónica Taborda Piedrahita | C116: GESTOR DE EDUCACION | E116: GESTOR DE EDUCACION | F116: MEDELLIN

Sheet Hoja1
A1: CÉDULA | B1: NOMBRE COMPLETO DEL PROFESOR/INSTRUCTOR | C1: ESCALAFON | D1: DEDICACION | E1: HORAS | F1: FECHA DE INICIO SEMESTRE | G1: FECHA FIN CONTRATO | H1: cruce con sabado | I1: facultad
A2: 28060666 | B2: EVA JOHANA HINESTROZA FLOREZ | C2: Auxiliar | D2: Catedra | E2: 6 | F2: 46055 | G2: 46182 | H2: =VLOOKUP(A2,sabado!$A$2:$E$116,5,0) -> CIENCIAS EMPRESARIALES | I2: =VLOOKUP(A2,'[1]NOMINA GENERAL'!A$4:J$245,10,0) -> CIENCIAS EMPRESARIALES
A3: 32182310 | B3: JULIE NATALIA ALZATE ALVAREZ | C3: Asistente | D3: Catedra | E3: 12 | F3: 46055 | G3: 46182 | H3: =VLOOKUP(A3,sabado!$A$2:$E$116,5,0) -> #N/A | I3: =VLOOKUP(A3,'[1]NOMINA GENERAL'!A$4:J$245,10,0) -> CIENCIAS EMPRESARIALES
A4: 42689916 | B4: LUISA FERNANDA VILLEGAS MONTOYA | C4: Auxiliar | D4: Catedra | E4: 9 | F4: 46055 | G4: 46182 | H4: =VLOOKUP(A4,sabado!$A$2:$E$116,5,0) -> CIENCIAS EMPRESARIALES | I4: =VLOOKUP(A4,'[1]NOMINA GENERAL'!A$4:J$245,10,0) -> CIENCIAS EMPRESARIALES
A5: 71270707 | B5: LEANDRO JOSÉ VARELA CORRALES | C5: Auxiliar | D5: MT | F5: 46055 | G5: 46182 | H5: =VLOOKUP(A5,sabado!$A$2:$E$116,5,0) -> #N/A | I5: =VLOOKUP(A5,'[1]NOMINA GENERAL'!A$4:J$245,10,0) -> CIENCIAS EMPRESARIALES
A6: 71383315 | B6: CARLOS MARIO GOMEZ TORREZ | C6: Auxiliar | D6: Catedra | E6: 6 | F6: 46055 | G6: 46182 | H6: =VLOOKUP(A6,sabado!$A$2:$E$116,5,0) -> #N/A | I6: =VLOOKUP(A6,'[1]NOMINA GENERAL'!A$4:J$245,10,0) -> CIENCIAS EMPRESARIALES
A7: 79521381 | B7: JUAN DAVID GIRALDO TRUJILLO | C7: Auxiliar | D7: Catedra | E7: 12 | F7: 46055 | G7: 46182 | H7: =VLOOKUP(A7,sabado!$A$2:$E$116,5,0) -> CIENCIAS EMPRESARIALES | I7: =VLOOKUP(A7,'[1]NOMINA GENERAL'!A$4:J$245,10,0) -> CIENCIAS EMPRESARIALES
A8: 94542036 | B8: ALEXANDER ARANGO POLANIA | C8: Auxiliar | D8: Catedra | E8: 7 | F8: 46055 | G8: 46182 | H8: =VLOOKUP(A8,sabado!$A$2:$E$116,5,0) -> CIENCIAS EMPRESARIALES | I8: =VLOOKUP(A8,'[1]NOMINA GENERAL'!A$4:J$245,10,0) -> CIENCIAS EMPRESARIALES
A9: 1026144241 | B9: FRANCISCO OSCAR VELEZ MORALES | C9: Auxiliar | D9: MT | F9: 46055 | G9: 46182 | H9: =VLOOKUP(A9,sabado!$A$2:$E$116,5,0) -> CIENCIAS EMPRESARIALES | I9: =VLOOKUP(A9,'[1]NOMINA GENERAL'!A$4:J$245,10,0) -> CIENCIAS EMPRESARIALES
A10: 1032447866 | B10: DAVID LEONARDO CARO PEDREROS | C10: Asistente | D10: Catedra | E10: 8 | F10: 46055 | G10: 46182 | H10: =VLOOKUP(A10,sabado!$A$2:$E$116,5,0) -> CIENCIAS EMPRESARIALES | I10: =VLOOKUP(A10,'[1]NOMINA GENERAL'!A$4:J$245,10,0) -> CIENCIAS EMPRESARIALES
A11: 1035223897 | B11: JHON EDISON ZULETA BUSTAMANTE | C11: Asistente | D11: Catedra | E11: 8 | F11: 46055 | G11: 46182 | H11: =VLOOKUP(A11,sabado!$A$2:$E$116,5,0) -> CIENCIAS EMPRESARIALES | I11: =VLOOKUP(A11,'[1]NOMINA GENERAL'!A$4:J$245,10,0) -> CIENCIAS EMPRESARIALES
A12: 1061787372 | B12: JAVIER DANIEL MUÑOZ PIEDRAHITA | C12: Asociado | D12: MT | F12: 46055 | G12: 46182 | H12: =VLOOKUP(A12,sabado!$A$2:$E$116,5,0) -> CIENCIAS EMPRESARIALES | I12: =VLOOKUP(A12,'[1]NOMINA GENERAL'!A$4:J$245,10,0) -> CIENCIAS EMPRESARIALES
A13: 1128267730 | B13: MARIA VICTORIA BOTERO VASQUEZ | C13: Asistente | D13: TC | F13: 46055 | G13: 46356 | H13: =VLOOKUP(A13,sabado!$A$2:$E$116,5,0) -> CIENCIAS EMPRESARIALES | I13: =VLOOKUP(A13,'[1]NOMINA GENERAL'!A$4:J$245,10,0) -> CIENCIAS EMPRESARIALES
A14: 8161364 | B14: ANDRES FELIPE GUTIERREZ HENAO | C14: Auxiliar | D14: MT | F14: 46055 | G14: 46356 | H14: =VLOOKUP(A14,sabado!$A$2:$E$116,5,0) -> CIENCIAS EMPRESARIALES | I14: =VLOOKUP(A14,'[1]NOMINA GENERAL'!A$4:J$245,10,0) -> CIENCIAS EMPRESARIALES
A15: 1017155113 | B15: JUAN DAVID LLANO GARCIA | C15: Auxiliar | D15: Catedra | E15: 10 | F15: 46055 | G15: 46182 | H15: =VLOOKUP(A15,sabado!$A$2:$E$116,5,0) -> CIENCIAS EMPRESARIALES | I15: =VLOOKUP(A15,'[1]NOMINA GENERAL'!A$4:J$245,10,0) -> CIENCIAS EMPRESARIALES
A16: 1128421746 | B16: RAÚL ESTEBAN PEDROZA CORREA | C16: Auxiliar | D16: TC | F16: 46055 | G16: 46356 | H16: =VLOOKUP(A16,sabado!$A$2:$E$116,5,0) -> CIENCIAS EMPRESARIALES | I16: =VLOOKUP(A16,'[1]NOMINA GENERAL'!A$4:J$245,10,0) -> CIENCIAS EMPRESARIALES
A17: 1039453386 | B17: JULIAN ANDRÉS JIMENEZ TORO | C17: Auxiliar | D17: MT | F17: 46055 | G17: 46182 | H17: =VLOOKUP(A17,sabado!$A$2:$E$116,5,0) -> CIENCIAS EMPRESARIALES | I17: =VLOOKUP(A17,'[1]NOMINA GENERAL'!A$4:J$245,10,0) -> CIENCIAS EMPRESARIALES
A18: 1020408352 | B18: LUIS FERNANDO GONZALEZ GAVIRIA | C18: Asistente | D18: TC | F18: 46055 | G18: 46371 | H18: =VLOOKUP(A18,sabado!$A$2:$E$116,5,0) -> CIDEH | I18: =VLOOKUP(A18,'[1]NOMINA GENERAL'!A$4:J$245,10,0) -> CIDEH
A19: 1035865168 | B19: YESENIA ACEVEDO CORREA | C19: Asistente | D19: TC | F19: 46055 | G19: 46182 | H19: =VLOOKUP(A19,sabado!$A$2:$E$116,5,0) -> #N/A | I19: =VLOOKUP(A19,'[1]NOMINA GENERAL'!A$4:J$245,10,0) -> CIDEH
A20: 1152197679 | B20: DANIEL ESTEBAN QUIRÓZ OSPINA | C20: Asistente | D20: TC | F20: 46055 | G20: 46182 | H20: =VLOOKUP(A20,sabado!$A$2:$E$116,5,0) -> CIDEH | I20: =VLOOKUP(A20,'[1]NOMINA GENERAL'!A$4:J$245,10,0) -> CIDEH
A21: 8164419 | B21: FELIPE VÉLEZ LAGOUYETTE | C21: Auxiliar | D21: Catedra | E21: 12 | F21: 46055 | G21: 46182 | H21: =VLOOKUP(A21,sabado!$A$2:$E$116,5,0) -> INGENIERIA | I21: =VLOOKUP(A21,'[1]NOMINA GENERAL'!A$4:J$245,10,0) -> INGENIERIA
A22: 1000406832 | B22: CARLOS EDUARDO VARGAS | C22: Auxiliar | D22: TC | F22: 46055 | G22: 46182 | H22: =VLOOKUP(A22,sabado!$A$2:$E$116,5,0) -> INGENIERIA | I22: =VLOOKUP(A22,'[1]NOMINA GENERAL'!A$4:J$245,10,0) -> INGENIERIA
A23: 1017205894 | B23: ANDRÉS FELIPE MONTOYA | C23: Auxiliar | D23: TC | F23: 46055 | G23: 46371 | H23: =VLOOKUP(A23,sabado!$A$2:$E$116,5,0) -> #N/A | I23: =VLOOKUP(A23,'[1]NOMINA GENERAL'!A$4:J$245,10,0) -> INGENIERIA
A24: 1017225343 | B24: SEBASTIAN PATIÑO OROZCO | C24: Auxiliar | D24: MT | F24: 46055 | G24: 46182 | H24: =VLOOKUP(A24,sabado!$A$2:$E$116,5,0) -> INGENIERIA | I24: =VLOOKUP(A24,'[1]NOMINA GENERAL'!A$4:J$245,10,0) -> INGENIERIA
A25: 1020451835 | B25: JUAN CAMILO TOBÓN SANTA | C25: Auxiliar | D25: Catedra | E25: 10 | F25: 46055 | G25: 46182 | H25: =VLOOKUP(A25,sabado!$A$2:$E$116,5,0) -> INGENIERIA | I25: =VLOOKUP(A25,'[1]NOMINA GENERAL'!A$4:J$245,10,0) -> INGENIERIA
A26: 1020456181 | B26: JUAN FERNANDO GAVIRIA | C26: Auxiliar | D26: Catedra | E26: 6 | F26: 46055 | G26: 46182 | H26: =VLOOKUP(A26,sabado!$A$2:$E$116,5,0) -> INGENIERIA | I26: =VLOOKUP(A26,'[1]NOMINA GENERAL'!A$4:J$245,10,0) -> INGENIERIA
A27: 1037612323 | B27: ESTEBAN HENAO PATERNINA | C27: Auxiliar | D27: TC | F27: 46055 | G27: 46356 | H27: =VLOOKUP(A27,sabado!$A$2:$E$116,5,0) -> INGENIERIA | I27: =VLOOKUP(A27,'[1]NOMINA GENERAL'!A$4:J$245,10,0) -> INGENIERIA
A28: 1040042333 | B28: LEIDY CATALINA VELEZ | C28: Asistente | D28: TC | F28: 46055 | G28: 46371 | H28: =VLOOKUP(A28,sabado!$A$2:$E$116,5,0) -> #N/A | I28: =VLOOKUP(A28,'[1]NOMINA GENERAL'!A$4:J$245,10,0) -> INGENIERIA
A29: 1121832549 | B29: JAIRO COY COY | C29: Asociado | D29: TC | F29: 46055 | G29: 46371 | H29: =VLOOKUP(A29,sabado!$A$2:$E$116,5,0) -> #N/A | I29: =VLOOKUP(A29,'[1]NOMINA GENERAL'!A$4:J$245,10,0) -> INGENIERIA
A30: 1128276124 | B30: GABRIEL JAIME SILVA BOLIVAR | C30: Asociado | D30: MT | F30: 46055 | G30: 46356 | H30: =VLOOKUP(A30,sabado!$A$2:$E$116,5,0) -> INGENIERIA | I30: =VLOOKUP(A30,'[1]NOMINA GENERAL'!A$4:J$245,10,0) -> INGENIERIA
A31: 1152452344 | B31: SANTIAGO FLOREZ BAENA | C31: Auxiliar | D31: MT | F31: 46055 | G31: 46182 | H31: =VLOOKUP(A31,sabado!$A$2:$E$116,5,0) -> INGENIERIA | I31: =VLOOKUP(A31,'[1]NOMINA GENERAL'!A$4:J$245,10,0) -> INGENIERIA
A32: 1152461426 | B32: YESICA MARÍA GOMEZ JARAMILLO | C32: Asistente | D32: TC | F32: 46055 | G32: 46356 | H32: =VLOOKUP(A32,sabado!$A$2:$E$116,5,0) -> #N/A | I32: =VLOOKUP(A32,'[1]NOMINA GENERAL'!A$4:J$245,10,0) -> INGENIERIA
A33: 71364858 | B33: ALEXANDER REVUELTAS | C33: Auxiliar | D33: MT | F33: 46055 | G33: 46182 | H33: =VLOOKUP(A33,sabado!$A$2:$E$116,5,0) -> INGENIERIA | I33: =VLOOKUP(A33,'[1]NOMINA GENERAL'!A$4:J$245,10,0) -> INGENIERIA
A34: 1020478552 | B34: Paola Rodriguez Saldarriaga | C34: Auxiliar | D34: Catedra | E34: 9 | F34: 46055 | G34: 46182 | H34: =VLOOKUP(A34,sabado!$A$2:$E$116,5,0) -> INGENIERIA | I34: =VLOOKUP(A34,'[1]NOMINA GENERAL'!A$4:J$245,10,0) -> INGENIERIA
A35: 1027800311 | B35: Juan Miguel Betancur Cifuentes | C35: Auxiliar | D35: TC | F35: 46055 | G35: 46371 | H35: =VLOOKUP(A35,sabado!$A$2:$E$116,5,0) -> INGENIERIA | I35: =VLOOKUP(A35,'[1]NOMINA GENERAL'!A$4:J$245,10,0) -> INGENIERIA
A36: 1075267636 | B36: Daniel Hernandez Vega | C36: Auxiliar | D36: TC | F36: 46055 | G36: 46182 | H36: =VLOOKUP(A36,sabado!$A$2:$E$116,5,0) -> INGENIERIA | I36: =VLOOKUP(A36,'[1]NOMINA GENERAL'!A$4:J$245,10,0) -> INGENIERIA
A37: 310363 | B37: SUÑE DOMENECH ROSA MARIA | C37: Asociado | D37: MT | F37: 46055 | G37: 46182 | H37: =VLOOKUP(A37,sabado!$A$2:$E$116,5,0) -> EDUCACION | I37: =VLOOKUP(A37,'[1]NOMINA GENERAL'!A$4:J$245,10,0) -> EDUCACION
A38: 666554 | B38: PANIAGUA SAUCEDO DIEGO GUSTAVO | C38: Asistente | D38: TC | F38: 46055 | G38: 46356 | H38: =VLOOKUP(A38,sabado!$A$2:$E$116,5,0) -> EDUCACION | I38: =VLOOKUP(A38,'[1]NOMINA GENERAL'!A$4:J$245,10,0) -> EDUCACION
A39: 43275018 | B39: VASQUEZ RAMIREZ LEIDY YANETH | C39: Auxiliar | D39: Catedra | E39: 9 | F39: 46055 | G39: 46182 | H39: =VLOOKUP(A39,sabado!$A$2:$E$116,5,0) -> EDUCACION | I39: =VLOOKUP(A39,'[1]NOMINA GENERAL'!A$4:J$245,10,0) -> EDUCACION
A40: 43455398 | B40: ARANGO ESCOBAR YEIMY MARICELA | C40: Auxiliar | D40: MT | F40: 46055 | G40: 46182 | H40: =VLOOKUP(A40,sabado!$A$2:$E$116,5,0) -> EDUCACION | I40: =VLOOKUP(A40,'[1]NOMINA GENERAL'!A$4:J$245,10,0) -> EDUCACION
A41: 43724286 | B41: VASQUEZ PEREZ NORA LILIANA | C41: Auxiliar | D41: TC | F41: 46055 | G41: 46182 | H41: =VLOOKUP(A41,sabado!$A$2:$E$116,5,0) -> EDUCACION | I41: =VLOOKUP(A41,'[1]NOMINA GENERAL'!A$4:J$245,10,0) -> EDUCACION
A42: 71084559 | B42: GONZALEZ PALACIO ENOC VALENTIN | C42: Asociado | D42: MT | F42: 46055 | G42: 46182 | H42: =VLOOKUP(A42,sabado!$A$2:$E$116,5,0) -> EDUCACION | I42: =VLOOKUP(A42,'[1]NOMINA GENERAL'!A$4:J$245,10,0) -> EDUCACION
A43: 71226696 | B43: CARDONA MOLINA YEISON ANDRES | C43: Asociado | D43: TC | F43: 46055 | G43: 46182 | H43: =VLOOKUP(A43,sabado!$A$2:$E$116,5,0) -> EDUCACION | I43: =VLOOKUP(A43,'[1]NOMINA GENERAL'!A$4:J$245,10,0) -> EDUCACION
A44: 71260036 | B44: RAMIREZ GONZALEZ ANDRES FELIPE | C44: Asociado | D44: TC | F44: 46055 | G44: 46182 | H44: =VLOOKUP(A44,sabado!$A$2:$E$116,5,0) -> EDUCACION | I44: =VLOOKUP(A44,'[1]NOMINA GENERAL'!A$4:J$245,10,0) -> EDUCACION
A45: 71312844 | B45: URIBE GARCÍA JULIAN ALBERTO | C45: Asociado | D45: Catedra | E45: 14 | F45: 46055 | G45: 46182 | H45: =VLOOKUP(A45,sabado!$A$2:$E$116,5,0) -> EDUCACION | I45: =VLOOKUP(A45,'[1]NOMINA GENERAL'!A$4:J$245,10,0) -> EDUCACION
A46: 71421478 | B46: SANCHEZ ZAPATA WILBERTO | C46: Auxiliar | D46: MT | F46: 46055 | G46: 46182 | H46: =VLOOKUP(A46,sabado!$A$2:$E$116,5,0) -> EDUCACION | I46: =VLOOKUP(A46,'[1]NOMINA GENERAL'!A$4:J$245,10,0) -> EDUCACION
A47: 71711581 | B47: MADRID HENAO VICTOR OCTAVIO | C47: Asistente | D47: TC | F47: 46055 | G47: 46182 | H47: =VLOOKUP(A47,sabado!$A$2:$E$116,5,0) -> EDUCACION | I47: =VLOOKUP(A47,'[1]NOMINA GENERAL'!A$4:J$245,10,0) -> EDUCACION
A48: 71750186 | B48: DIAZ GARCIA RICARDO LEON | C48: Asociado | D48: TC | F48: 46055 | G48: 46182 | H48: =VLOOKUP(A48,sabado!$A$2:$E$116,5,0) -> EDUCACION | I48: =VLOOKUP(A48,'[1]NOMINA GENERAL'!A$4:J$245,10,0) -> EDUCACION
A49: 72245141 | B49: PEREZ ANGULO JOHANN ENRIQUE | C49: Asociado | D49: TC | F49: 46055 | G49: 46182 | H49: =VLOOKUP(A49,sabado!$A$2:$E$116,5,0) -> EDUCACION | I49: =VLOOKUP(A49,'[1]NOMINA GENERAL'!A$4:J$245,10,0) -> EDUCACION
A50: 1000445721 | B50: MORENO CARDENAS KELLY VANESSA | C50: Auxiliar | D50: MT | F50: 46055 | G50: 46182 | H50: =VLOOKUP(A50,sabado!$A$2:$E$116,5,0) -> EDUCACION | I50: =VLOOKUP(A50,'[1]NOMINA GENERAL'!A$4:J$245,10,0) -> EDUCACION
A51: 1017136816 | B51: ROJAS MONTOYA YURANI | C51: Auxiliar | D51: MT | F51: 46055 | G51: 46182 | H51: =VLOOKUP(A51,sabado!$A$2:$E$116,5,0) -> EDUCACION | I51: =VLOOKUP(A51,'[1]NOMINA GENERAL'!A$4:J$245,10,0) -> EDUCACION
A52: 1035434483 | B52: PRENS GARCIA DIANA PATRICIA | C52: Auxiliar | D52: Catedra | E52: 12 | F52: 46055 | G52: 46182 | H52: =VLOOKUP(A52,sabado!$A$2:$E$116,5,0) -> EDUCACION | I52: =VLOOKUP(A52,'[1]NOMINA GENERAL'!A$4:J$245,10,0) -> EDUCACION
A53: 1036644386 | B53: MAZO GUTIERREZ MARY LUZ | C53: Auxiliar | D53: TC | F53: 46055 | G53: 46182 | H53: =VLOOKUP(A53,sabado!$A$2:$E$116,5,0) -> EDUCACION | I53: =VLOOKUP(A53,'[1]NOMINA GENERAL'!A$4:J$245,10,0) -> EDUCACION
A54: 1037617972 | B54: RESTREPO LINA MARIA | C54: Auxiliar | D54: TC | F54: 46055 | G54: 46182 | H54: =VLOOKUP(A54,sabado!$A$2:$E$116,5,0) -> EDUCACION | I54: =VLOOKUP(A54,'[1]NOMINA GENERAL'!A$4:J$245,10,0) -> EDUCACION
A55: 1037619030 | B55: LEMA ARDILA JUAN ESTEBAN | C55: Auxiliar | D55: MT | F55: 46055 | G55: 46182 | H55: =VLOOKUP(A55,sabado!$A$2:$E$116,5,0) -> EDUCACION | I55: =VLOOKUP(A55,'[1]NOMINA GENERAL'!A$4:J$245,10,0) -> EDUCACION
A56: 42793592 | B56: OROZCO HOLGUIN MONICA MARITZA | C56: Auxiliar | D56: MT | F56: 46055 | G56: 46182 | H56: =VLOOKUP(A56,sabado!$A$2:$E$116,5,0) -> EDUCACION | I56: =VLOOKUP(A56,'[1]NOMINA GENERAL'!A$4:J$245,10,0) -> EDUCACION
A57: 1094902307 | B57: LARGO CORTES LIGGI DAYANA | C57: Auxiliar | D57: Catedra | E57: 8 | F57: 46055 | G57: 46182 | H57: =VLOOKUP(A57,sabado!$A$2:$E$116,5,0) -> EDUCACION | I57: =VLOOKUP(A57,'[1]NOMINA GENERAL'!A$4:J$245,10,0) -> EDUCACION
A58: 1017238022 | B58: HOLGUIN GAVIRIA MARIA CAMILA | C58: Auxiliar | D58: TC | F58: 46055 | G58: 46182 | H58: =VLOOKUP(A58,sabado!$A$2:$E$116,5,0) -> EDUCACION / ARTES | I58: =VLOOKUP(A58,'[1]NOMINA GENERAL'!A$4:J$245,10,0) -> EDUCACION / ARTES
A59: 1128452756 | B59: TANGARIFE COLORADO LEIDY YULIANA | C59: Auxiliar | D59: MT | F59: 46055 | G59: 46182 | H59: =VLOOKUP(A59,sabado!$A$2:$E$116,5,0) -> EDUCACION | I59: =VLOOKUP(A59,'[1]NOMINA GENERAL'!A$4:J$245,10,0) -> EDUCACION
A60: 3482159 | B60: RUIZ PABON JESUS MARIA | C60: Auxiliar | D60: MT | F60: 46055 | G60: 46182 | H60: =VLOOKUP(A60,sabado!$A$2:$E$116,5,0) -> #N/A | I60: =VLOOKUP(A60,'[1]NOMINA GENERAL'!A$4:J$245,10,0) -> EDUCACION
A61: 1001813118 | B61: TOBON BEDOYA JUAN FERNANDO | C61: Auxiliar | D61: TC | F61: 46055 | G61: 46182 | H61: =VLOOKUP(A61,sabado!$A$2:$E$116,5,0) -> #N/A | I61: =VLOOKUP(A61,'[1]NOMINA GENERAL'!A$4:J$245,10,0) -> EDUCACION
A62: 1040745902 | B62: MOJICA VELEZ CARLOS GUILLERMO | C62: Auxiliar | D62: TC | F62: 46055 | G62: 46182 | H62: =VLOOKUP(A62,sabado!$A$2:$E$116,5,0) -> #N/A | I62: =VLOOKUP(A62,'[1]NOMINA GENERAL'!A$4:J$245,10,0) -> EDUCACION
A63: 43921138 | B63: GALLEGO TOBON CATALINA | C63: Asociado | D63: TC | F63: 46055 | G63: 46182 | H63: =VLOOKUP(A63,sabado!$A$2:$E$116,5,0) -> #N/A | I63: =VLOOKUP(A63,'[1]NOMINA GENERAL'!A$4:J$245,10,0) -> EDUCACION
A64: 1017245616 | B64: DIEZ GIRALDO ANDRES FELIPE | C64: Auxiliar | D64: MT | F64: 46055 | G64: 46182 | H64: =VLOOKUP(A64,sabado!$A$2:$E$116,5,0) -> #N/A | I64: =VLOOKUP(A64,'[1]NOMINA GENERAL'!A$4:J$245,10,0) -> EDUCACION
A65: 43112230 | B65: ADRIANA CORREA MENA | C65: Auxiliar | D65: TC | F65: 46055 | G65: 46371 | H65: =VLOOKUP(A65,sabado!$A$2:$E$116,5,0) -> DERECHO | I65: =VLOOKUP(A65,'[1]NOMINA GENERAL'!A$4:J$245,10,0) -> DERECHO
A66: 98762678 | B66: JONATHAN STIVELL ANZOLA SÁNCHEZ | C66: Auxiliar | D66: Catedra | E66: 11 | F66: 46055 | G66: 46182 | H66: =VLOOKUP(A66,sabado!$A$2:$E$116,5,0) -> #N/A | I66: =VLOOKUP(A66,'[1]NOMINA GENERAL'!A$4:J$245,10,0) -> DERECHO
A67: 1020410025 | B67: DEISY BEATRIZ MUÑOZ ECHAVARRÍA | C67: Asistente | D67: MT | F67: 46055 | G67: 46182 | H67: =VLOOKUP(A67,sabado!$A$2:$E$116,5,0) -> DERECHO | I67: =VLOOKUP(A67,'[1]NOMINA GENERAL'!A$4:J$245,10,0) -> DERECHO
A68: 1020437535 | B68: JESÚS DAVID POLO RIVERA | C68: Auxiliar | D68: TC | F68: 46055 | G68: 46182 | H68: =VLOOKUP(A68,sabado!$A$2:$E$116,5,0) -> DERECHO | I68: =VLOOKUP(A68,'[1]NOMINA GENERAL'!A$4:J$245,10,0) -> DERECHO
A69: 1020451214 | B69: IVAN DARIO AREIZA MONA | C69: Auxiliar | D69: Catedra | E69: 9 | F69: 46055 | G69: 46182 | H69: =VLOOKUP(A69,sabado!$A$2:$E$116,5,0) -> DERECHO | I69: =VLOOKUP(A69,'[1]NOMINA GENERAL'!A$4:J$245,10,0) -> DERECHO
A70: 1020467326 | B70: DANIEL RODRIGO GIL GALLEGO | C70: Auxiliar | D70: MT | F70: 46055 | G70: 46182 | H70: =VLOOKUP(A70,sabado!$A$2:$E$116,5,0) -> DERECHO | I70: =VLOOKUP(A70,'[1]NOMINA GENERAL'!A$4:J$245,10,0) -> DERECHO
A71: 1035869553 | B71: DAVID ALONSO AVENDAÑO MARTINEZ | C71: Auxiliar | D71: TC | F71: 46055 | G71: 46371 | H71: =VLOOKUP(A71,sabado!$A$2:$E$116,5,0) -> DERECHO | I71: =VLOOKUP(A71,'[1]NOMINA GENERAL'!A$4:J$245,10,0) -> DERECHO
A72: 1036927239 | B72: LUIS ALBERTO GÓMEZ CASTRILLÓN | C72: Asociado | D72: TC | F72: 46055 | G72: 46356 | H72: =VLOOKUP(A72,sabado!$A$2:$E$116,5,0) -> DERECHO | I72: =VLOOKUP(A72,'[1]NOMINA GENERAL'!A$4:J$245,10,0) -> DERECHO
A73: 1036947992 | B73: INÉS AMALIA HENAO RAMÍREZ | C73: Auxiliar | D73: MT | F73: 46055 | G73: 46371 | H73: =VLOOKUP(A73,sabado!$A$2:$E$116,5,0) -> DERECHO | I73: =VLOOKUP(A73,'[1]NOMINA GENERAL'!A$4:J$245,10,0) -> DERECHO
A74: 1037578128 | B74: PAULA ANDREA GARCÍA MORALES | C74: Asociado | D74: TC | F74: 46055 | G74: 46371 | H74: =VLOOKUP(A74,sabado!$A$2:$E$116,5,0) -> DERECHO | I74: =VLOOKUP(A74,'[1]NOMINA GENERAL'!A$4:J$245,10,0) -> DERECHO
A75: 1037633998 | B75: TALIA BASMAGI LONDOÑO | C75: Auxiliar | D75: TC | F75: 46055 | G75: 46356 | H75: =VLOOKUP(A75,sabado!$A$2:$E$116,5,0) -> DERECHO | I75: =VLOOKUP(A75,'[1]NOMINA GENERAL'!A$4:J$245,10,0) -> DERECHO
A76: 1102803934 | B76: VALERIE MICHELL VALLEJO VILARÓ | C76: Asistente | D76: Catedra | E76: 6 | F76: 46055 | G76: 46182 | H76: =VLOOKUP(A76,sabado!$A$2:$E$116,5,0) -> DERECHO | I76: =VLOOKUP(A76,'[1]NOMINA GENERAL'!A$4:J$245,10,0) -> DERECHO
A77: 1020465430 | B77: JUAN CAMILO RÍOS JIMÉNEZ | C77: Auxiliar | D77: Catedra | E77: 7 | F77: 46055 | G77: 46182 | H77: =VLOOKUP(A77,sabado!$A$2:$E$116,5,0) -> #N/A | I77: =VLOOKUP(A77,'[1]NOMINA GENERAL'!A$4:J$245,10,0) -> DERECHO
A78: 1027887803 | B78: MATEO LEDESMA CANO | C78: Auxiliar | D78: Catedra | E78: 10 | F78: 46057 | G78: 46182 | H78: =VLOOKUP(A78,sabado!$A$2:$E$116,5,0) -> #N/A | I78: =VLOOKUP(A78,'[1]NOMINA GENERAL'!A$4:J$245,10,0) -> DERECHO
A79: 71673185 | B79: HERNANDEZ GARCIA SERGIO LUIS | C79: Auxiliar | D79: TC | F79: 46055 | G79: 46182 | H79: =VLOOKUP(A79,sabado!$A$2:$E$116,5,0) -> #N/A | I79: =VLOOKUP(A79,'[1]NOMINA GENERAL'!A$4:J$245,10,0) -> DERECHO
A80: 9734589 | B80: FABIO MAURICIO UPEGUI | C80: Auxiliar | D80: MT | F80: 46055 | G80: 46182 | H80: =VLOOKUP(A80,sabado!$A$2:$E$116,5,0) -> ARTES | I80: =VLOOKUP(A80,'[1]NOMINA GENERAL'!A$4:J$245,10,0) -> ARTES
A81: 9736577 | B81: CARLOS ALBERTO MENDOZA PARRA | C81: Auxiliar | D81: MT | F81: 46055 | G81: 46182 | H81: =VLOOKUP(A81,sabado!$A$2:$E$116,5,0) -> ARTES | I81: =VLOOKUP(A81,'[1]NOMINA GENERAL'!A$4:J$245,10,0) -> ARTES
A82: 71613355 | B82: HERNANDO ADOLFO OSSA MORA | C82: Auxiliar | D82: MT | E82: 20 | F82: 46055 | G82: 46182 | H82: =VLOOKUP(A82,sabado!$A$2:$E$116,5,0) -> ARTES | I82: =VLOOKUP(A82,'[1]NOMINA GENERAL'!A$4:J$245,10,0) -> ARTES
A83: 71769570 | B83: ANDRES FELIPE GOMEZ MORA | C83: Asistente | D83: TC | F83: 46055 | G83: 46356 | H83: =VLOOKUP(A83,sabado!$A$2:$E$116,5,0) -> ARTES | I83: =VLOOKUP(A83,'[1]NOMINA GENERAL'!A$4:J$245,10,0) -> ARTES
A84: 71796176 | B84: ANDRES FELIPE ESTRADA | C84: Auxiliar | D84: Catedra | E84: 9 | F84: 46055 | G84: 46182 | H84: =VLOOKUP(A84,sabado!$A$2:$E$116,5,0) -> #N/A | I84: =VLOOKUP(A84,'[1]NOMINA GENERAL'!A$4:J$245,10,0) -> ARTES
A85: 80826200 | B85: IVAN DARIO ESPINEL CRUZ | C85: Auxiliar | D85: Catedra | E85: 9 | F85: 46055 | G85: 46182 | H85: =VLOOKUP(A85,sabado!$A$2:$E$116,5,0) -> ARTES | I85: =VLOOKUP(A85,'[1]NOMINA GENERAL'!A$4:J$245,10,0) -> ARTES
A86: 94153468 | B86: BYRON LEON LOPEZ NIÑO | C86: Auxiliar | D86: MT | F86: 46055 | G86: 46182 | H86: =VLOOKUP(A86,sabado!$A$2:$E$116,5,0) -> ARTES | I86: =VLOOKUP(A86,'[1]NOMINA GENERAL'!A$4:J$245,10,0) -> ARTES
A87: 94532236 | B87: JORGE HUGO GUTIERREZ DÍAZ | C87: Auxiliar | D87: TC | F87: 46055 | G87: 46356 | H87: =VLOOKUP(A87,sabado!$A$2:$E$116,5,0) -> ARTES | I87: =VLOOKUP(A87,'[1]NOMINA GENERAL'!A$4:J$245,10,0) -> ARTES
A88: 1094896430 | B88: ROGER FORERO CASTRILLON | C88: Auxiliar | D88: MT | F88: 46055 | G88: 46182 | H88: =VLOOKUP(A88,sabado!$A$2:$E$116,5,0) -> ARTES | I88: =VLOOKUP(A88,'[1]NOMINA GENERAL'!A$4:J$245,10,0) -> ARTES
A89: 1094909122 | B89: ANDRÉS MAURICIO GARCÍA LOZANO | C89: Auxiliar | D89: MT | F89: 46055 | G89: 46182 | H89: =VLOOKUP(A89,sabado!$A$2:$E$116,5,0) -> #N/A | I89: =VLOOKUP(A89,'[1]NOMINA GENERAL'!A$4:J$245,10,0) -> ARTES
A90: 1094920892 | B90: CRISTIAN DAVID MOSCOSO | C90: Auxiliar | D90: MT | F90: 46055 | G90: 46182 | H90: =VLOOKUP(A90,sabado!$A$2:$E$116,5,0) -> ARTES | I90: =VLOOKUP(A90,'[1]NOMINA GENERAL'!A$4:J$245,10,0) -> ARTES
A91: 41957599 | B91: ANGÉLICA MARÍA LÓPEZ MARTINEZ | C91: Auxiliar | D91: TC | F91: 46057 | G91: 46182 | H91: =VLOOKUP(A91,sabado!$A$2:$E$116,5,0) -> #N/A | I91: =VLOOKUP(A91,'[1]NOMINA GENERAL'!A$4:J$245,10,0) -> ARTES
A92: 1094953024 | B92: JUAN DIEGO RODRIGUEZ | C92: Auxiliar | D92: MT | F92: 46055 | G92: 46182 | H92: =VLOOKUP(A92,sabado!$A$2:$E$116,5,0) -> ARTES | I92: =VLOOKUP(A92,'[1]NOMINA GENERAL'!A$4:J$245,10,0) -> ARTES
A93: 1097406098 | B93: MARIA FERNANDA DÍAZ SALAZAR | C93: Auxiliar | D93: MT | F93: 46055 | G93: 46182 | H93: =VLOOKUP(A93,sabado!$A$2:$E$116,5,0) -> ARTES | I93: =VLOOKUP(A93,'[1]NOMINA GENERAL'!A$4:J$245,10,0) -> ARTES
A94: 1193299764 | B94: MANUELA SALAZAR VILLEGAS | C94: Auxiliar | D94: Catedra | E94: 8 | F94: 46055 | G94: 46182 | H94: =VLOOKUP(A94,sabado!$A$2:$E$116,5,0) -> ARTES | I94: =VLOOKUP(A94,'[1]NOMINA GENERAL'!A$4:J$245,10,0) -> ARTES
A95: 8028802 | B95: PABLO CORREA VASQUEZ | C95: Auxiliar | D95: TC | F95: 46055 | G95: 46182 | H95: =VLOOKUP(A95,sabado!$A$2:$E$116,5,0) -> ARTES | I95: =VLOOKUP(A95,'[1]NOMINA GENERAL'!A$4:J$245,10,0) -> ARTES
A96: 8358775 | B96: LUIS ALEJANDRO GARCÉS JARAMILLO | C96: Auxiliar | D96: Catedra | E96: 9 | F96: 46055 | G96: 46182 | H96: =VLOOKUP(A96,sabado!$A$2:$E$116,5,0) -> ARTES | I96: =VLOOKUP(A96,'[1]NOMINA GENERAL'!A$4:J$245,10,0) -> ARTES
A97: 71665009 | B97: JOSE ROBERTO ZULUAGA SANCHEZ | C97: Auxiliar | D97: Catedra | E97: 12 | F97: 46055 | G97: 46182 | H97: =VLOOKUP(A97,sabado!$A$2:$E$116,5,0) -> #N/A | I97: =VLOOKUP(A97,'[1]NOMINA GENERAL'!A$4:J$245,10,0) -> ARTES
A98: 1037611161 | B98: ALEJANDRO LÓPEZ ARISTIZABAL | C98: Auxiliar | D98: MT | F98: 46055 | G98: 46182 | H98: =VLOOKUP(A98,sabado!$A$2:$E$116,5,0) -> ARTES | I98: =VLOOKUP(A98,'[1]NOMINA GENERAL'!A$4:J$245,10,0) -> ARTES
A99: 98666070 | B99: LUIS FELIPE CHAVEZ GIRALDO | C99: Asociado | D99: TC | F99: 46055 | G99: 46182 | H99: =VLOOKUP(A99,sabado!$A$2:$E$116,5,0) -> ARTES | I99: =VLOOKUP(A99,'[1]NOMINA GENERAL'!A$4:J$245,10,0) -> ARTES
A100: 1036620388 | B100: DAVID SALDARRIAGA BOLIVAR | C100: Auxiliar | D100: Catedra | E100: 14 | F100: 46055 | G100: 46182 | H100: =VLOOKUP(A100,sabado!$A$2:$E$116,5,0) -> ARTES | I100: =VLOOKUP(A100,'[1]NOMINA GENERAL'!A$4:J$245,10,0) -> ARTES
...

Sheet nuevos contratos
A1: CÉDULA | B1: NOMBRE COMPLETO DEL PROFESOR/INSTRUCTOR | C1: ESCALAFON | D1: DEDICACION | E1: HORAS | F1: FECHA DE INICIO SEMESTRE | G1: FECHA FIN CONTRATO | H1: facultad | I1: USUARIO ASIS | J1: CLAVE
A2: 32182310 | B2: JULIE NATALIA ALZATE ALVAREZ | C2: Asistente | D2: Catedra | E2: 12 | F2: 46055 | G2: 46182 | H2: CIENCIAS EMPRESARIALES | I2: NALZATEA | J2: J32182310A
A3: 71270707 | B3: LEANDRO JOSÉ VARELA CORRALES | C3: Auxiliar | D3: MT | F3: 46055 | G3: 46182 | H3: CIENCIAS EMPRESARIALES | I3: LVARELAC | J3: L71270707V
A4: 71383315 | B4: CARLOS MARIO GOMEZ TORREZ | C4: Auxiliar | D4: Catedra | E4: 6 | F4: 46055 | G4: 46182 | H4: CIENCIAS EMPRESARIALES | I4: CMGOMEZT | J4: C71383315G
A5: 1035865168 | B5: YESENIA ACEVEDO CORREA | C5: Asistente | D5: TC | F5: 46055 | G5: 46182 | H5: CIDEH | I5: YACEVEDOC | J5: Y1035865168A
A6: 1017205894 | B6: ANDRÉS FELIPE MONTOYA | C6: Auxiliar | D6: TC | F6: 46055 | G6: 46371 | H6: INGENIERIA | I6: AFMONTOYAF | J6: A1017205894M
A7: 1040042333 | B7: LEIDY CATALINA VELEZ | C7: Asistente | D7: TC | F7: 46055 | G7: 46371 | H7: INGENIERIA | I7: LCVELEZM | J7: L1040042333V
A8: 1121832549 | B8: JAIRO COY COY | C8: Asociado | D8: TC | F8: 46055 | G8: 46371 | H8: INGENIERIA | I8: JICOYC | J8: J1121832549C
A9: 1152461426 | B9: YESICA MARÍA GOMEZ JARAMILLO | C9: Asistente | D9: TC | F9: 46055 | G9: 46356 | H9: INGENIERIA | I9: YMGOMEZJ | J9: Y1152461426G
A10: 3482159 | B10: RUIZ PABON JESUS MARIA | C10: Auxiliar | D10: MT | F10: 46055 | G10: 46182 | H10: EDUCACION | I10: JMRUIZP | J10: J3482159R
A11: 1001813118 | B11: TOBON BEDOYA JUAN FERNANDO | C11: Auxiliar | D11: TC | F11: 46055 | G11: 46182 | H11: EDUCACION | I11: JFTOBONB_DOC | J11: J1001813118T
A12: 1040745902 | B12: MOJICA VELEZ CARLOS GUILLERMO | C12: Auxiliar | D12: TC | F12: 46055 | G12: 46182 | H12: EDUCACION | I12: CGMOJICAV_DOC | J12: C1040745902M
A13: 43921138 | B13: GALLEGO TOBON CATALINA | C13: Asociado | D13: TC | F13: 46055 | G13: 46182 | H13: EDUCACION | I13: CGALLEGOT | J13: C43921138G
A14: 1017245616 | B14: DIEZ GIRALDO ANDRES FELIPE | C14: Auxiliar | D14: MT | F14: 46055 | G14: 46182 | H14: EDUCACION | I14: AFDIEZG | J14: A1017245616D
A15: 98762678 | B15: JONATHAN STIVELL ANZOLA SÁNCHEZ | C15: Auxiliar | D15: Catedra | E15: 11 | F15: 46055 | G15: 46182 | H15: DERECHO | I15: JSANZOLAS | J15: J98762678A
A16: 1020465430 | B16: JUAN CAMILO RÍOS JIMÉNEZ | C16: Auxiliar | D16: Catedra | E16: 7 | F16: 46055 | G16: 46182 | H16: DERECHO | I16: JCRIOSJ | J16: J1020465430R
A17: 1027887803 | B17: MATEO LEDESMA CANO | C17: Auxiliar | D17: Catedra | E17: 10 | F17: 46057 | G17: 46182 | H17: DERECHO | I17: MLEDESMAC | J17: M1027887803L
A18: 71673185 | B18: HERNANDEZ GARCIA SERGIO LUIS | C18: Auxiliar | D18: TC | F18: 46055 | G18: 46182 | H18: DERECHO | I18: SLHERNANDEZG | J18: S71673185H
A19: 71796176 | B19: ANDRES FELIPE ESTRADA | C19: Auxiliar | D19: Catedra | E19: 9 | F19: 46055 | G19: 46182 | H19: ARTES | I19: AFESTRADAC | J19: A71796176E
A20: 1094909122 | B20: ANDRÉS MAURICIO GARCÍA LOZANO | C20: Auxiliar | D20: MT | F20: 46055 | G20: 46182 | H20: ARTES ARMENIA | I20: AMGARCIAL_DOC | J20: A1094909122G
A21: 41957599 | B21: ANGÉLICA MARÍA LÓPEZ MARTINEZ | C21: Auxiliar | D21: TC | F21: 46057 | G21: 46182 | H21: ARTES ARMENIA | I21: AMLOPEZM5 | J21: A41957599L
A22: 71665009 | B22: JOSE ROBERTO ZULUAGA SANCHEZ | C22: Auxiliar | D22: Catedra | E22: 12 | F22: 46055 | G22: 46182 | H22: ARTES | I22: JRZULUAGAS | J22: J71665009Z
A23: 1040326469 | B23: DIEGO ALEJANDRO HERRERA RODRIGUEZ | C23: Auxiliar | D23: Catedra | E23: 12 | F23: 46055 | G23: 46182 | H23: ARTES | I23: DAHERRERAR | J23: D1040326469H
A24: 71659273 | B24: FRANCISCO JAVIER OSSA MORA | C24: Auxiliar | D24: Catedra | E24: 12 | F24: 46055 | G24: 46182 | H24: ARTES | I24: FJOSSAM | J24: F71659273O
A25: 1017165458 | B25: JULIANA GÓMEZ COLORADO | C25: Auxiliar | D25: Catedra | E25: 8 | F25: 46055 | G25: 46182 | H25: ARTES | I25: JGOMEZC | J25: J1017165458G
A26: 32299220 | B26: LILIANA MARÍA RAMÍREZ HINCAPIÉ | C26: Auxiliar | D26: Catedra | E26: 8 | F26: 46055 | G26: 46182 | H26: ARTES | I26: LMRAMIREZH1_DOC | J26: L32299220R
A27: 1020463147 | B27: ANA MARIA VILLA RIOS | C27: Auxiliar | D27: Catedra | E27: 4 | F27: 46057 | G27: 46182 | H27: ARTES | I27: AMVILLAR | J27: A1020463147V
A28: 71364627 | B28: JUAN GUILLERMO BERRIO | C28: Auxiliar | D28: Catedra | E28: 7 | F28: 46055 | G28: 46182 | H28: ARTES | I28: JGBERRIOZ | J28: J71364627B
A29: 1152195218 | B29: MARIA CAMILA DELGADO CANO | C29: Auxiliar | D29: MT | F29: 46057 | G29: 46182 | H29: ARTES | I29: MCDELGADOC | J29: M1152195218D
A30: 43732841 | B30: MARISOL RUIZ TORO | C30: Auxiliar | D30: Catedra | E30: 6 | F30: 46057 | G30: 46182 | H30: ARTES | I30: MRUIZT1 | J30: M43732841R
A31: 1128283425 | B31: EDUARDO ARANGO BEDOYA | C31: Auxiliar | D31: MT | F31: 46055 | G31: 46182 | H31: ARTES | I31: EARANGOB | J31: E1128283425A
A32: 43808795 | B32: MARGARITA MARIA CASTRILLON TABA | C32: Asistente | D32: MT | F32: 46055 | G32: 46182 | H32: PSICOLOGIA | I32: MMCASTRILLONT | J32: M43808795C
A33: 71334198 | B33: NICOLAS IGNACIO URIBE ARAMBURO | C33: Auxiliar | D33: MT | F33: 46055 | G33: 46182 | H33: PSICOLOGIA | I33: NIURIBEA | J33: N71334198U
A34: 1128389054 | B34: SEBASTIAN QUINTERO IDARRAGA | C34: Asociado | D34: TC | F34: 46055 | G34: 46356 | H34: PSICOLOGIA | I34: SQUINEROI | J34: S1128389054Q
A35: 1094895689 | B35: MARLLY ANDREA DEVIA ARIAS | C35: Auxiliar | D35: MT | F35: 46055 | G35: 46182 | H35: PSICOLOGIA | I35: MADEVIAA | J35: M1094895689D
A36: 41925271 | B36: MANRIQUE VARGAS MARIA EUGENIA | C36: Auxiliar | D36: MT | F36: 46057 | G36: 46182 | H36: PSICOLOGIA | I36: MEMANRIQUEV | J36: M41925271M
A37: 41941187 | B37: BEDOYA BENITEZ PAULA ANDREA | C37: Auxiliar | D37: MT | F37: 46057 | G37: 46182 | H37: PSICOLOGIA | I37: PABEDOYAB_DOC | J37: P41941187B
A38: 71756130 | B38: Douglas González Zapata | C38: GESTOR DE INGENIERIAS | F38: 46057 | G38: indefinido | H38: GESTOR DE INGENIERIAS
